BEGIN:VCALENDAR
VERSION:2.0
PRODID:-//Centre Polyglotte - ECPv6.12.0.1//NONSGML v1.0//EN
CALSCALE:GREGORIAN
METHOD:PUBLISH
X-WR-CALNAME:Centre Polyglotte
X-ORIGINAL-URL:https://www.centre-polyglotte.eu
X-WR-CALDESC:Évènements pour Centre Polyglotte
REFRESH-INTERVAL;VALUE=DURATION:PT1H
X-Robots-Tag:noindex
X-PUBLISHED-TTL:PT1H
BEGIN:VTIMEZONE
TZID:Europe/Paris
BEGIN:DAYLIGHT
TZOFFSETFROM:+0100
TZOFFSETTO:+0200
TZNAME:CEST
DTSTART:20260329T010000
END:DAYLIGHT
BEGIN:STANDARD
TZOFFSETFROM:+0200
TZOFFSETTO:+0100
TZNAME:CET
DTSTART:20261025T010000
END:STANDARD
END:VTIMEZONE
BEGIN:VEVENT
DTSTART;TZID=Europe/Paris:20260425T133000
DTEND;TZID=Europe/Paris:20260425T163000
DTSTAMP:20260425T161906
CREATED:20260310T135745Z
LAST-MODIFIED:20260424T100346Z
UID:6480-1777123800-1777134600@www.centre-polyglotte.eu
SUMMARY:Atelier cuisine en espagnol
DESCRIPTION:« Tous les Évènements\n 				\n				\n				\n				\n					\n	Atelier cuisine en espagnol				\n				\n				\n						\n					\n			\n						\n				\n					\n	\n				\n				\n				\n				\n									Nous sommes contraint d’annuler cet atelier.  N’hésitez pas à revenir régulièrement sur notre AGENDA pour suivre les prochaines animations. 								\n				\n				\n				\n									pportez votre tablier et cuisinez avec Karen\, l’occasion de pratiquer l’espagnol autrement en cuisine ! Ouvert à toutes et tous. 								\n				\n				\n				\n									20€ / personne Uniquement sur inscription\, nombre de places limité (12). 								\n				\n					\n		\n				\n			\n						\n				\n					\n	\n	Date et heure :	\n			samedi 25 avril 2026\n\n	\n\n	  de  \n\n\n13h30\n\n		\n\n\n\n	\n	   à  \n\n16h30\n\n\n\n	\n				\n				\n				\n				\n					\n	\n		\n\n	\n	Ajouter au calendrier	\n		\n	\n\n		\n			\n									\n	Google Agenda\n\n									\n	iCalendar\n\n									\n	Outlook 365\n\n									\n	Outlook Live\n\n							\n		\n\n		\n	\n\n				\n				\n				\n				\n									\n					\n						\n									Inscription\n					\n					\n				\n								\n				\n				\n				\n							\n			\n		\n						\n				\n				\n				\n					Adresse :				\n				\n				\n				\n					\n				\n				\n	\n	Tiers-lieu marsien ST-MARS-DU-DESERT\n	\n	Adresse :\n	\n\n17 Rue du 3 Août 1944\n	\n		\n		SAINT MARS DU DESERT\,\n\n\n\n\n\n\n\n\n\n	\n\n\n\n		\n	\n				\n				\n				\n				\n																\n															\n															\n				\n				\n				\n					\n	\n	Organisateur\n	POLYGLOTTE\n	\n	\n\n	Téléphone :\n					\n			0240721271			\n	 \n\n\n	\n	E-mail :\n					\n			contact@centre-polyglotte.eu			\n	 \n\n\n\n				\n				\n					\n		\n					\n		\n				\n						\n					\n			\n							\n		\n				\n			\n							\n		\n					\n		\n				\n				\n							\n			\n		\n						\n				\n				\n				\n					\n	\n		\n\n				Soirée Tapas Party en anglais et en espagnol	\n\n\n		\n	\n		Café Polyglotte en anglais
URL:https://www.centre-polyglotte.eu/evenements/atelier-cuisine-en-espagnol/
LOCATION:Tiers-lieu marsien ST-MARS-DU-DESERT\, 17 Rue du 3 Août 1944\, SAINT MARS DU DESERT
CATEGORIES:atelier,cuisine,espagnol
ATTACH;FMTTYPE=image/png:https://www.centre-polyglotte.eu/wp-content/uploads/2026/03/ANNULE.png
ORGANIZER;CN="POLYGLOTTE":MAILTO:contact@centre-polyglotte.eu
END:VEVENT
END:VCALENDAR