BEGIN:VCALENDAR
VERSION:2.0
PRODID:-//Centre Polyglotte - ECPv6.12.0.1//NONSGML v1.0//EN
CALSCALE:GREGORIAN
METHOD:PUBLISH
X-WR-CALNAME:Centre Polyglotte
X-ORIGINAL-URL:https://www.centre-polyglotte.eu
X-WR-CALDESC:Évènements pour Centre Polyglotte
REFRESH-INTERVAL;VALUE=DURATION:PT1H
X-Robots-Tag:noindex
X-PUBLISHED-TTL:PT1H
BEGIN:VTIMEZONE
TZID:Europe/Paris
BEGIN:DAYLIGHT
TZOFFSETFROM:+0100
TZOFFSETTO:+0200
TZNAME:CEST
DTSTART:20260329T010000
END:DAYLIGHT
BEGIN:STANDARD
TZOFFSETFROM:+0200
TZOFFSETTO:+0100
TZNAME:CET
DTSTART:20261025T010000
END:STANDARD
END:VTIMEZONE
BEGIN:VEVENT
DTSTART;TZID=Europe/Paris:20260331T200000
DTEND;TZID=Europe/Paris:20260331T220000
DTSTAMP:20260421T133619
CREATED:20260306T082817Z
LAST-MODIFIED:20260310T140816Z
UID:6382-1774987200-1774994400@www.centre-polyglotte.eu
SUMMARY:Festival du Cinéma Espagnol
DESCRIPTION:« Tous les Évènements\n 				\n				\n				\n				\n					Cet évènement est passé. \n				\n				\n				\n				\n					\n	Festival du Cinéma Espagnol				\n				\n				\n						\n					\n			\n						\n				\n					\n	\n				\n				\n				\n				\n									LES DIMANCHESTout public • 01h57 • De Alauda Ruiz De Azua • DrameAvec: Patricia López Arnaiz\, Miguel Garcés\, Juan MinujínAinara\, 17 ans\, élève dans un lycée catholique\, s’apprête à passer son bac et à choisir son futur parcours universitaire. A la surprise générale\, cette brillante jeune fille annonce à sa famille qu’elle souhaite participer à une période d’intégration dans un couvent afin d’embrasser la vie de religieuse. La nouvelle prend tout le monde au dépourvu. Si le père semble se laisser convaincre par les aspirations de sa fille\, pour Maite\, la tante d’Ainara\, cette vocation inattendue est la manifestation d’un mal plus profond … B A N D E   A N N O N C E								\n				\n					\n		\n				\n			\n						\n				\n					\n	\n	Date et heure :	\n			mardi 31 mars 2026\n\n	\n\n	  de  \n\n\n20h00\n\n		\n\n\n\n	\n	   à  \n\n22h00\n\n\n\n	\n				\n				\n				\n				\n					\n	\n		\n\n	\n	Ajouter au calendrier	\n		\n	\n\n		\n			\n									\n	Google Agenda\n\n									\n	iCalendar\n\n									\n	Outlook 365\n\n									\n	Outlook Live\n\n							\n		\n\n		\n	\n\n				\n				\n				\n				\n					Adresse :				\n				\n				\n				\n									En partenariat avec le cinéma partenaire 								\n				\n				\n				\n																														\n				\n				\n				\n									>>> Tarif Spécial Polyglotte : nous consulter ! <<<								\n				\n				\n				\n					\n				\n				\n	\n	Cinéma Le Gén’Eric HERIC\n	\n	Adresse :\n	\n\nRue de l'Océan\n	\n		\n		HERIC\,\n\n\n	44810\n\n\n\n\n\n\n\n	\n\n\n\n		\n	\n				\n				\n				\n				\n					\n	\n	Organisateur\n	POLYGLOTTE\n	\n	\n\n	Téléphone :\n					\n			0240721271			\n	 \n\n\n	\n	E-mail :\n					\n			contact@centre-polyglotte.eu			\n	 \n\n\n\n				\n				\n					\n		\n					\n		\n				\n						\n					\n			\n							\n		\n				\n			\n							\n		\n					\n		\n				\n				\n					\n	\n		\n\n				Atelier Découverte du japonais #4/6	\n\n\n		\n	\n		Festival du Cinéma Espagnol
URL:https://www.centre-polyglotte.eu/evenements/festival_cinema_espagnol/
LOCATION:Cinéma Le Gén’Eric HERIC\, Rue de l'Océan\, HERIC\, 44810
CATEGORIES:cinema,espagnol,langue
ATTACH;FMTTYPE=image/png:https://www.centre-polyglotte.eu/wp-content/uploads/2026/03/Les_dimanches.png
ORGANIZER;CN="POLYGLOTTE":MAILTO:contact@centre-polyglotte.eu
END:VEVENT
END:VCALENDAR