BEGIN:VCALENDAR
VERSION:2.0
PRODID:-//Centre Polyglotte - ECPv6.12.0.1//NONSGML v1.0//EN
CALSCALE:GREGORIAN
METHOD:PUBLISH
X-WR-CALNAME:Centre Polyglotte
X-ORIGINAL-URL:https://www.centre-polyglotte.eu
X-WR-CALDESC:Évènements pour Centre Polyglotte
REFRESH-INTERVAL;VALUE=DURATION:PT1H
X-Robots-Tag:noindex
X-PUBLISHED-TTL:PT1H
BEGIN:VTIMEZONE
TZID:Europe/Paris
BEGIN:DAYLIGHT
TZOFFSETFROM:+0100
TZOFFSETTO:+0200
TZNAME:CEST
DTSTART:20260329T010000
END:DAYLIGHT
BEGIN:STANDARD
TZOFFSETFROM:+0200
TZOFFSETTO:+0100
TZNAME:CET
DTSTART:20261025T010000
END:STANDARD
END:VTIMEZONE
BEGIN:VEVENT
DTSTART;TZID=Europe/Paris:20260409T183000
DTEND;TZID=Europe/Paris:20260409T200000
DTSTAMP:20260421T141820
CREATED:20260306T114836Z
LAST-MODIFIED:20260401T133414Z
UID:6416-1775759400-1775764800@www.centre-polyglotte.eu
SUMMARY:Soirée Tapas Party en anglais et en espagnol
DESCRIPTION:« Tous les Évènements\n 				\n				\n				\n				\n					Cet évènement est passé. \n				\n				\n				\n				\n					\n	Soirée Tapas Party en anglais et en espagnol				\n				\n				\n						\n					\n			\n						\n				\n					\n	\n				\n				\n				\n				\n									  Dans une ambiance conviviale\, venez échanger dans la langue de Shakespeare ou de Cervantes\, tout en dégustant des tapas (5) accompagnés d’1 boisson.  2 espaces de discussion pour échanger dans la langue souhaitée\, êtes-vous Polyglotte ?  								\n				\n				\n				\n									Tarif Soirée Tapas : 11 €/personne! COMPLET !Date limite d’inscription : 28/03/2026 								\n				\n					\n		\n				\n			\n						\n				\n					\n	\n	Date et heure :	\n			jeudi 9 avril 2026\n\n	\n\n	  de  \n\n\n18h30\n\n		\n\n\n\n	\n	   à  \n\n20h00\n\n\n\n	\n				\n				\n				\n				\n					\n	\n		\n\n	\n	Ajouter au calendrier	\n		\n	\n\n		\n			\n									\n	Google Agenda\n\n									\n	iCalendar\n\n									\n	Outlook 365\n\n									\n	Outlook Live\n\n							\n		\n\n		\n	\n\n				\n				\n				\n				\n									En partenariat avec le restaurant 								\n				\n				\n				\n																														\n				\n				\n				\n					Adresse :				\n				\n				\n				\n					\n				\n				\n	\n	Les Georgettes LES TOUCHES\n	\n	Adresse :\n	\n\nLe mont juillet\n	\n		\n		LES TOUCHES\,\n\n\n\n\n\n\n\n\n\n	\n\n\n\n		\n	\n				\n				\n				\n				\n					\n	\n	Organisateur\n	POLYGLOTTE\n	\n	\n\n	Téléphone :\n					\n			0240721271			\n	 \n\n\n	\n	E-mail :\n					\n			contact@centre-polyglotte.eu			\n	 \n\n\n\n				\n				\n					\n		\n					\n		\n				\n						\n					\n			\n							\n		\n				\n			\n							\n		\n					\n		\n				\n				\n					\n	\n		\n\n				Festival du Cinéma Espagnol	\n\n\n		\n	\n		Atelier cuisine en espagnol
URL:https://www.centre-polyglotte.eu/evenements/soiree-tapas-party/
LOCATION:Les Georgettes LES TOUCHES\, Le mont juillet\, LES TOUCHES
CATEGORIES:cinema,espagnol,langue
ATTACH;FMTTYPE=image/jpeg:https://www.centre-polyglotte.eu/wp-content/uploads/2026/03/idees-tapas-complet.jpg
ORGANIZER;CN="POLYGLOTTE":MAILTO:contact@centre-polyglotte.eu
END:VEVENT
END:VCALENDAR